BEGIN:VCALENDAR
VERSION:2.0
PRODID:-//Weskus Mall - ECPv6.15.15//NONSGML v1.0//EN
CALSCALE:GREGORIAN
METHOD:PUBLISH
X-WR-CALNAME:Weskus Mall
X-ORIGINAL-URL:https://weskus-mall.co.za
X-WR-CALDESC:Events for Weskus Mall
REFRESH-INTERVAL;VALUE=DURATION:PT1H
X-Robots-Tag:noindex
X-PUBLISHED-TTL:PT1H
BEGIN:VTIMEZONE
TZID:Africa/Johannesburg
BEGIN:STANDARD
TZOFFSETFROM:+0200
TZOFFSETTO:+0200
TZNAME:SAST
DTSTART:20240101T000000
END:STANDARD
END:VTIMEZONE
BEGIN:VEVENT
DTSTART;TZID=Africa/Johannesburg:20250909T080000
DTEND;TZID=Africa/Johannesburg:20250930T170000
DTSTAMP:20260420T063156
CREATED:20250909T083014Z
LAST-MODIFIED:20250909T211939Z
UID:16575-1757404800-1759251600@weskus-mall.co.za
SUMMARY:Win just by being in our group
DESCRIPTION:All Weskus Mall Events\, deals and news WhatsApp group members will be entered into the draw to WIN a R500 Volpes Voucher on the 30th of September.\nT’s & C’s apply
URL:https://weskus-mall.co.za/event/win-just-by-being-in-our-group/
LOCATION:Weskus Mall\, 110 Saldanha Road\,\, Vredenburg\, Western Cape\, 7380\, South Africa
CATEGORIES:Competitions,Weskus Mall
ATTACH;FMTTYPE=image/jpeg:https://weskus-mall.co.za/wp-content/uploads/2025/09/WM_Whatsapp-Group-poster_Finale.jpg
ORGANIZER;CN="Weskus Mall":MAILTO:info@weskus-mall.co.za
END:VEVENT
BEGIN:VEVENT
DTSTART;TZID=Africa/Johannesburg:20250909T080000
DTEND;TZID=Africa/Johannesburg:20250930T170000
DTSTAMP:20260420T063156
CREATED:20250909T084923Z
LAST-MODIFIED:20250909T084923Z
UID:16586-1757404800-1759251600@weskus-mall.co.za
SUMMARY:Choose our TIKTOK booth's next trend & win
DESCRIPTION:Help us choose the vibe for our TikTok Booth’s back wall at Weskus Mall! \nGot a cool theme idea? Drop it in the comments on our social media posts or email info@weskus-mall.co.za & you could stand a chance to WIN! \nWinner announced: 29 Sept 2025 \nDon’t just scroll… this is your shot to set the next trend! \nT’s & C’s apply \n#ChooseTheTREND \nwww.weskus-mall.co.za Tel: 022 703 6900 | 110 Saldanha Road\, Vredenburg
URL:https://weskus-mall.co.za/event/choose-our-tiktok-booths-next-trend-win-2/
LOCATION:Weskus Mall\, 110 Saldanha Road\,\, Vredenburg\, Western Cape\, 7380\, South Africa
CATEGORIES:Competitions,Weskus Mall
ATTACH;FMTTYPE=image/jpeg:https://weskus-mall.co.za/wp-content/uploads/2025/09/WM_Tiktok-Lounge_Poster_Post-1.jpg
ORGANIZER;CN="Weskus Mall":MAILTO:info@weskus-mall.co.za
END:VEVENT
BEGIN:VEVENT
DTSTART;TZID=Africa/Johannesburg:20250912T080000
DTEND;TZID=Africa/Johannesburg:20250914T233000
DTSTAMP:20260420T063156
CREATED:20250912T095524Z
LAST-MODIFIED:20250912T095949Z
UID:16607-1757664000-1757892600@weskus-mall.co.za
SUMMARY:Predict the score and stand a chance to win with Weskus Mall
DESCRIPTION:Predict the score and stand a chance to win with Weskus Mall\nSouth Africa VS New Zealand\nDate: 13 September 2025\nTime: 09:05 \nWho will be victorious this Saturday? The Springboks or the All Blacks? \nWeskus Mall is backing our boys in green and gold this weekend! \nSouth Africa vs New Zealand \nKickoff is at 09:05. Join us on Saturday\, 13 September 2025\, in the Food Court. \nPredict the final score in the comments section\, and you could stand a chance to WIN a voucher to the value of R250! \nCompetition closes Saturday\,  13 September 2025 at 08:30 \nLive streaming on our big screen \nT’s & C’s Apply \n\n\n\n\n\n\n#WeskusMall #PredictTheScore #Competition #RugbyMatch #SouthAfrica #NewZealand
URL:https://weskus-mall.co.za/event/predict-the-score-and-stand-a-chance-to-win-with-weskus-mall-5/
LOCATION:Weskus Mall\, 110 Saldanha Road\,\, Vredenburg\, Western Cape\, 7380\, South Africa
CATEGORIES:Competitions
ATTACH;FMTTYPE=image/jpeg:https://weskus-mall.co.za/wp-content/uploads/2025/09/Predict-the-score-13-September.jpg
ORGANIZER;CN="Weskus Mall":MAILTO:info@weskus-mall.co.za
END:VEVENT
END:VCALENDAR