BEGIN:VCALENDAR
VERSION:2.0
PRODID:-//Weskus Mall - ECPv6.15.15//NONSGML v1.0//EN
CALSCALE:GREGORIAN
METHOD:PUBLISH
X-ORIGINAL-URL:https://weskus-mall.co.za
X-WR-CALDESC:Events for Weskus Mall
REFRESH-INTERVAL;VALUE=DURATION:PT1H
X-Robots-Tag:noindex
X-PUBLISHED-TTL:PT1H
BEGIN:VTIMEZONE
TZID:Africa/Johannesburg
BEGIN:STANDARD
TZOFFSETFROM:+0200
TZOFFSETTO:+0200
TZNAME:SAST
DTSTART:20240101T000000
END:STANDARD
END:VTIMEZONE
BEGIN:VEVENT
DTSTART;TZID=Africa/Johannesburg:20251108T080000
DTEND;TZID=Africa/Johannesburg:20251110T220000
DTSTAMP:20260420T031544
CREATED:20251105T140812Z
LAST-MODIFIED:20251110T102131Z
UID:16742-1762588800-1762812000@weskus-mall.co.za
SUMMARY:Can the Bokke do to France what they did to Japan last weekend?
DESCRIPTION:Competition time at Weskus Mall ! \nPredict the Man of the Match for Saturday’s game against France and stand a chance to win a Yukon Spur Steak Ranch voucher valued at R250! ️ \nT’s & C’s apply – Competition ends at 22:00 on Saturday\, 8 November 2025 – Winner will be announced on Monday 10 November 2025. \nDrop your prediction in the comments below \n#Springboks #Rugby #spur #Bokke #GameDay #weskusmall \nPLEASE NOTE: The game between the Springboks and France will not be screened live at Weskus Mall\, as the mall will already be closed at that time.
URL:https://weskus-mall.co.za/event/can-the-bokke-do-to-france-what-they-did-to-japan-last-weekend-%f0%9f%8f%89/
LOCATION:Weskus Mall\, 110 Saldanha Road\,\, Vredenburg\, Western Cape\, 7380\, South Africa
CATEGORIES:Competitions
ATTACH;FMTTYPE=image/jpeg:https://weskus-mall.co.za/wp-content/uploads/2025/11/Predict-the-score-Nov-8th1.jpg
ORGANIZER;CN="Weskus Mall":MAILTO:info@weskus-mall.co.za
END:VEVENT
BEGIN:VEVENT
DTSTART;TZID=Africa/Johannesburg:20251108T080000
DTEND;TZID=Africa/Johannesburg:20251201T220000
DTSTAMP:20260420T031544
CREATED:20251110T125248Z
LAST-MODIFIED:20251111T125612Z
UID:16756-1762588800-1764626400@weskus-mall.co.za
SUMMARY:Win just by being in our whatsapp group
DESCRIPTION:
URL:https://weskus-mall.co.za/event/win-just-by-being-in-our-whatsapp-group/
LOCATION:Weskus Mall\, 110 Saldanha Road\,\, Vredenburg\, Western Cape\, 7380\, South Africa
CATEGORIES:Competitions
ATTACH;FMTTYPE=image/jpeg:https://weskus-mall.co.za/wp-content/uploads/2025/11/WM_Whatsapp-post_NOV20251.jpg
ORGANIZER;CN="Weskus Mall":MAILTO:info@weskus-mall.co.za
END:VEVENT
END:VCALENDAR