BEGIN:VCALENDAR
VERSION:2.0
PRODID:-//Weskus Mall - ECPv6.15.15//NONSGML v1.0//EN
CALSCALE:GREGORIAN
METHOD:PUBLISH
X-WR-CALNAME:Weskus Mall
X-ORIGINAL-URL:https://weskus-mall.co.za
X-WR-CALDESC:Events for Weskus Mall
REFRESH-INTERVAL;VALUE=DURATION:PT1H
X-Robots-Tag:noindex
X-PUBLISHED-TTL:PT1H
BEGIN:VTIMEZONE
TZID:Africa/Johannesburg
BEGIN:STANDARD
TZOFFSETFROM:+0200
TZOFFSETTO:+0200
TZNAME:SAST
DTSTART:20240101T000000
END:STANDARD
END:VTIMEZONE
BEGIN:VEVENT
DTSTART;TZID=Africa/Johannesburg:20250719T080000
DTEND;TZID=Africa/Johannesburg:20250719T163000
DTSTAMP:20260422T033858
CREATED:20250717T220000Z
LAST-MODIFIED:20250724T192856Z
UID:14222-1752912000-1752942600@weskus-mall.co.za
SUMMARY:Predict the Score and stand a Chance to win with Weskus Mall!
DESCRIPTION:All Weskus Mall Events\, deals and news WhatsApp group members will be entered into the draw to WIN a R250 Voucher on the 28 Feb 2026.\nT’s & C’s apply
URL:https://weskus-mall.co.za/event/predict-the-score-and-stand-a-chance-to-win-with-weskus-mall-2/
LOCATION:Western Cape
CATEGORIES:Competitions,Weskus Mall
ATTACH;FMTTYPE=image/png:https://weskus-mall.co.za/wp-content/uploads/2025/07/Predict-the-score-south-africa-versus-georgia-1.png
END:VEVENT
END:VCALENDAR