BEGIN:VCALENDAR
VERSION:2.0
PRODID:-//Weskus Mall - ECPv6.15.15//NONSGML v1.0//EN
CALSCALE:GREGORIAN
METHOD:PUBLISH
X-WR-CALNAME:Weskus Mall
X-ORIGINAL-URL:https://weskus-mall.co.za
X-WR-CALDESC:Events for Weskus Mall
REFRESH-INTERVAL;VALUE=DURATION:PT1H
X-Robots-Tag:noindex
X-PUBLISHED-TTL:PT1H
BEGIN:VTIMEZONE
TZID:Africa/Johannesburg
BEGIN:STANDARD
TZOFFSETFROM:+0200
TZOFFSETTO:+0200
TZNAME:SAST
DTSTART:20240101T000000
END:STANDARD
END:VTIMEZONE
BEGIN:VEVENT
DTSTART;TZID=Africa/Johannesburg:20250811T080000
DTEND;TZID=Africa/Johannesburg:20250818T170000
DTSTAMP:20260422T021426
CREATED:20250608T220000Z
LAST-MODIFIED:20250724T192833Z
UID:14214-1754899200-1755536400@weskus-mall.co.za
SUMMARY:caption this image and stand a chance to win a R500 Voucher!
DESCRIPTION:All Weskus Mall Events\, deals and news WhatsApp group members will be entered into the draw to WIN a R250 Voucher on the 28 Feb 2026.\nT’s & C’s apply
URL:https://weskus-mall.co.za/event/caption-this-image-and-stand-a-chance-to-win-a-r500-voucher/
LOCATION:Western Cape
CATEGORIES:Competitions,Weskus Mall
ATTACH;FMTTYPE=image/png:https://weskus-mall.co.za/wp-content/uploads/2025/07/29.png
END:VEVENT
END:VCALENDAR