BEGIN:VCALENDAR
VERSION:2.0
PRODID:-//Weskus Mall - ECPv6.15.15//NONSGML v1.0//EN
CALSCALE:GREGORIAN
METHOD:PUBLISH
X-WR-CALNAME:Weskus Mall
X-ORIGINAL-URL:https://weskus-mall.co.za
X-WR-CALDESC:Events for Weskus Mall
REFRESH-INTERVAL;VALUE=DURATION:PT1H
X-Robots-Tag:noindex
X-PUBLISHED-TTL:PT1H
BEGIN:VTIMEZONE
TZID:Africa/Johannesburg
BEGIN:STANDARD
TZOFFSETFROM:+0200
TZOFFSETTO:+0200
TZNAME:SAST
DTSTART:20240101T000000
END:STANDARD
END:VTIMEZONE
BEGIN:VEVENT
DTSTART;TZID=Africa/Johannesburg:20250902T080000
DTEND;TZID=Africa/Johannesburg:20250903T170000
DTSTAMP:20260422T010012
CREATED:20250902T070553Z
LAST-MODIFIED:20250904T070915Z
UID:16559-1756800000-1756918800@weskus-mall.co.za
SUMMARY:at Wimpy SA Weskus Mall
DESCRIPTION:All Weskus Mall Events\, deals and news WhatsApp group members will be entered into the draw to WIN a R250 Voucher on the 28 Feb 2026.\nT’s & C’s apply
URL:https://weskus-mall.co.za/event/at-wimpy-sa-weskus-mall/
LOCATION:Weskus Mall\, 110 Saldanha Road\,\, Vredenburg\, Western Cape\, 7380\, South Africa
CATEGORIES:Competitions
ATTACH;FMTTYPE=image/png:https://weskus-mall.co.za/wp-content/uploads/2025/09/514411313_1114371164060799_1259411438395342993_n.png
ORGANIZER;CN="Weskus Mall":MAILTO:info@weskus-mall.co.za
END:VEVENT
END:VCALENDAR