BEGIN:VCALENDAR
VERSION:2.0
PRODID:-//Weskus Mall - ECPv6.15.15//NONSGML v1.0//EN
CALSCALE:GREGORIAN
METHOD:PUBLISH
X-ORIGINAL-URL:https://weskus-mall.co.za
X-WR-CALDESC:Events for Weskus Mall
REFRESH-INTERVAL;VALUE=DURATION:PT1H
X-Robots-Tag:noindex
X-PUBLISHED-TTL:PT1H
BEGIN:VTIMEZONE
TZID:Africa/Johannesburg
BEGIN:STANDARD
TZOFFSETFROM:+0200
TZOFFSETTO:+0200
TZNAME:SAST
DTSTART:20240101T000000
END:STANDARD
END:VTIMEZONE
BEGIN:VEVENT
DTSTART;TZID=Africa/Johannesburg:20251004T080000
DTEND;TZID=Africa/Johannesburg:20251006T100000
DTSTAMP:20260422T005712
CREATED:20251002T055124Z
LAST-MODIFIED:20251002T055445Z
UID:16639-1759564800-1759744800@weskus-mall.co.za
SUMMARY:Predict the score and stand a chance to win with Weskus Mall
DESCRIPTION:All Weskus Mall Events\, deals and news WhatsApp group members will be entered into the draw to WIN a R250 Voucher on the 28 Feb 2026.\nT’s & C’s apply
URL:https://weskus-mall.co.za/event/predict-the-score-and-stand-a-chance-to-win-with-weskus-mall-4/
LOCATION:Weskus Mall\, 110 Saldanha Road\,\, Vredenburg\, Western Cape\, 7380\, South Africa
CATEGORIES:Competitions
ATTACH;FMTTYPE=image/jpeg:https://weskus-mall.co.za/wp-content/uploads/2025/10/Predict-the-score-Oct.jpg
ORGANIZER;CN="Weskus Mall":MAILTO:info@weskus-mall.co.za
END:VEVENT
END:VCALENDAR