BEGIN:VCALENDAR
VERSION:2.0
PRODID:-//Weskus Mall - ECPv6.15.15//NONSGML v1.0//EN
CALSCALE:GREGORIAN
METHOD:PUBLISH
X-WR-CALNAME:Weskus Mall
X-ORIGINAL-URL:https://weskus-mall.co.za
X-WR-CALDESC:Events for Weskus Mall
REFRESH-INTERVAL;VALUE=DURATION:PT1H
X-Robots-Tag:noindex
X-PUBLISHED-TTL:PT1H
BEGIN:VTIMEZONE
TZID:Africa/Johannesburg
BEGIN:STANDARD
TZOFFSETFROM:+0200
TZOFFSETTO:+0200
TZNAME:SAST
DTSTART:20240101T000000
END:STANDARD
END:VTIMEZONE
BEGIN:VEVENT
DTSTART;TZID=Africa/Johannesburg:20251219T100000
DTEND;TZID=Africa/Johannesburg:20251219T130000
DTSTAMP:20260419T164746
CREATED:20251125T070552Z
LAST-MODIFIED:20251125T070713Z
UID:16782-1766138400-1766149200@weskus-mall.co.za
SUMMARY:The wait is finally over — Build-A-Bear is coming to Weskus Mall on 19 December!
DESCRIPTION:The wait is finally over — Build-A-Bear is coming to Weskus Mall on 19 December!  \nPlease note that bookings are essential. There are two time slots available: 10:00 and 13:00. \nWhen making your booking\, please be clear about the time slot you want. All payments must be made on or before 10 December 2025. \nPayments can be made at the Centre Management Office on the lower level\, close to the bathrooms. Card facilities are available. \nTo secure your spot\, please contact Joanne or Olivia on 022 703 6900 and advise when you will be on-site to make payment. \nWe look forward to hearing from you!
URL:https://weskus-mall.co.za/event/the-wait-is-finally-over-build-a-bear-is-coming-to-weskus-mall-on-19-december/
LOCATION:Weskus Mall\, 110 Saldanha Road\,\, Vredenburg\, Western Cape\, 7380\, South Africa
CATEGORIES:Weskus Mall Events
ATTACH;FMTTYPE=image/jpeg:https://weskus-mall.co.za/wp-content/uploads/2025/11/Build-a-Bear.jpg
ORGANIZER;CN="Weskus Mall":MAILTO:info@weskus-mall.co.za
END:VEVENT
BEGIN:VEVENT
DTSTART;TZID=Africa/Johannesburg:20251215T100000
DTEND;TZID=Africa/Johannesburg:20260126T010000
DTSTAMP:20260419T164746
CREATED:20251226T112917Z
LAST-MODIFIED:20251226T112917Z
UID:16805-1765792800-1769389200@weskus-mall.co.za
SUMMARY:Together\, we turn compassion into action! 💙
DESCRIPTION:Together\, we turn compassion into action! 💙 \nThis December\, Weskus Mall invites our community to open their hearts and support those in need. You can donate your pre-loved clothing\, household items\, non-perishable food\, or pet food by dropping them off at our Management Office. \nEvery donation—big or small—helps make a real difference.\nThroughout January 2026\, we will be collecting\, sorting\, and distributing all items to various local NGOs in our community. \nLet’s share the spirit of generosity and uplift our community together.\nDonate today and help us spread the word! 🙌 \n#WeskusMall #CommunityCare #GiveBack #CharityDrive #TogetherWeCan
URL:https://weskus-mall.co.za/event/together-we-turn-compassion-into-action-%f0%9f%92%99/
LOCATION:Weskus Mall\, 110 Saldanha Road\,\, Vredenburg\, Western Cape\, 7380\, South Africa
CATEGORIES:Charity,Weskus Mall Events
ATTACH;FMTTYPE=image/jpeg:https://weskus-mall.co.za/wp-content/uploads/2025/12/WM_Festive-Charity-Drive_2025_Print-1-scaled.jpg
ORGANIZER;CN="Weskus Mall":MAILTO:info@weskus-mall.co.za
END:VEVENT
BEGIN:VEVENT
DTSTART;TZID=Africa/Johannesburg:20251130T103000
DTEND;TZID=Africa/Johannesburg:20251130T170000
DTSTAMP:20260419T164746
CREATED:20250909T210811Z
LAST-MODIFIED:20250909T211249Z
UID:16588-1764498600-1764522000@weskus-mall.co.za
SUMMARY:The Annual Toyrun is almost here!
DESCRIPTION:Weskus Mall is proud to once again be the starting point for the Mass Ride taking place on Sunday\, 30 November 2025. \nJoin in the fun and help make a difference in the lives of children in need. \nFor more information\, please contact Corna at 081 270 7657.
URL:https://weskus-mall.co.za/event/the-annual-toyrun-is-almost-here/
LOCATION:Weskus Mall\, 110 Saldanha Road\,\, Vredenburg\, Western Cape\, 7380\, South Africa
CATEGORIES:Weskus Mall Events
ATTACH;FMTTYPE=image/jpeg:https://weskus-mall.co.za/wp-content/uploads/2025/09/Toyrun.jpg
ORGANIZER;CN="Weskus Mall":MAILTO:info@weskus-mall.co.za
END:VEVENT
BEGIN:VEVENT
DTSTART;TZID=Africa/Johannesburg:20250718T080000
DTEND;TZID=Africa/Johannesburg:20250718T090000
DTSTAMP:20260419T164746
CREATED:20250515T220000Z
LAST-MODIFIED:20250724T192824Z
UID:14209-1752825600-1752829200@weskus-mall.co.za
SUMMARY:Mandela Day - Help us to Help those in need
DESCRIPTION:[vc_row][vc_column][vc_column_text css=””] \nEvery small act of kindness counts.   This Mandela Day\, Weskus Mall will be making sandwiches as part of our 67 minutes of giving — and we need your helping hands! \n ️ Date: 18 July 2025 \n  Time: 08:00 – 09:00 \n  Location: Weskus Mall Foschini Court \nWe ask that if you wish to participate\, please bring a loaf of bread\, your kindness and willingness to help. Together\, we can put a smile on someone’s face.   we will provide the butter\, jam and peanut butter. \n  Donations are welcome! \nWe’re also calling on our tenants and community to assist with: \n\nMop caps\nGloves\nPaper bags\n\nOnce the sandwiches are made\, we will head out and personally deliver them to those in need. \n[/vc_column_text][/vc_column][/vc_row][vc_row][vc_column][vc_masonry_media_grid css=”” grid_id=”vc_gid:1747387211768-8d105ed3-227e-3″ include=”12135″][/vc_column][/vc_row]
URL:https://weskus-mall.co.za/event/mandela-day-help-us-to-help-those-in-need/
LOCATION:Weskus Mall Foschini Court\, 110 Saldanha Road\, Vredenburg\, Western Cape\, 7380\, South Africa
CATEGORIES:Mothers Day,Weskus Mall,Weskus Mall Events
ATTACH;FMTTYPE=image/jpeg:https://weskus-mall.co.za/wp-content/uploads/2025/07/Weskus_Mandela-Day_A1-Poster_Print_page-0001-scaled-1.jpg
ORGANIZER;CN="Weskus Mall":MAILTO:info@weskus-mall.co.za
END:VEVENT
BEGIN:VEVENT
DTSTART;TZID=Africa/Johannesburg:20250705T100000
DTEND;TZID=Africa/Johannesburg:20250705T170000
DTSTAMP:20260419T164746
CREATED:20250611T220000Z
LAST-MODIFIED:20250724T192838Z
UID:14216-1751709600-1751734800@weskus-mall.co.za
SUMMARY:Kids Club Event at Weskus Mall – In Collaboration with Cricut SA!
DESCRIPTION:[vc_row][vc_column][vc_column_text]Weskus Mall is thrilled to partner with Cricut SA to bring your little ones two fun-filled Kids Club events this July! \n  Dates:              \n\nSaturday\, 5 July 2025\nSaturday\, 12 July 2025\n\n  Time: 10:00 AM\n  Venue: Food Court\, Weskus Mall \nJoin us for a morning of creativity\, crafts\, and Cricut fun!  ✨ \nBookings are essential.\nPlease contact Joanne at   022 703 6900 or   marketing@weskus-mall.co.za for more info and to secure your spot. \n  Not a Kids Club Member yet? Be sure to ask about joining when you book! \n  Spaces are limited\, so don’t delay — this is one event your kids won’t want to miss! They’re going to love every minute of it — trust us! \n  \n#weskusmall #cricutsa #kidsschoolholiday #cups #funforkids[/vc_column_text][/vc_column][/vc_row][vc_row][vc_column][vc_masonry_media_grid css=”” grid_id=”vc_gid:1749717893461-bd7a6fb5-2b0a-10″ include=”12398″][/vc_column][/vc_row]
URL:https://weskus-mall.co.za/event/%f0%9f%8e%89-kids-club-event-at-weskus-mall-in-collaboration-with-cricut-sa-%f0%9f%8e%a8/
LOCATION:Western Cape
CATEGORIES:Weskus Mall,Weskus Mall Events
ATTACH;FMTTYPE=image/png:https://weskus-mall.co.za/wp-content/uploads/2025/07/Cricut-event-fully-booked.png
END:VEVENT
BEGIN:VEVENT
DTSTART;TZID=Africa/Johannesburg:20250614T100000
DTEND;TZID=Africa/Johannesburg:20250614T120000
DTSTAMP:20260419T164746
CREATED:20250515T220000Z
LAST-MODIFIED:20250724T192822Z
UID:14208-1749895200-1749902400@weskus-mall.co.za
SUMMARY:Celebrate Father's Day with Weskus Mall!
DESCRIPTION:[vc_row][vc_column][vc_column_text css=””] \nThis June\, we’re inviting all dads and their kids to join us for a special CrossFit Day event – a fun-filled celebration of strength\, bonding\, and teamwork! \n  Designed to build trust and connection\, this event features age-appropriate CrossFit workouts tailored for both adults and children. \nGet ready to break a sweat\, share some laughs\, and enjoy a bit of healthy competition! \n\nEvent date:  14 June 2025 \nTime:  10:00 – 12:00 \nPrize giving: 12:30pm \nBooking is essential.   for more information\, contact our Marketing Team at 022 703 6900 – email Joanne on marketing@weskus-mall.co.za \n[/vc_column_text][/vc_column][/vc_row][vc_row][vc_column][vc_masonry_media_grid css=”” grid_id=”vc_gid:1747387241685-a2bc764c-99de-10″ include=”12131″][/vc_column][/vc_row]
URL:https://weskus-mall.co.za/event/%f0%9f%92%aa-celebrate-fathers-day-with-weskus-mall-%f0%9f%92%99/
LOCATION:Weskus Mall\, 110 Saldanha Road\,\, Vredenburg\, Western Cape\, 7380\, South Africa
CATEGORIES:Mothers Day,Weskus Mall,Weskus Mall Events
ATTACH;FMTTYPE=image/jpeg:https://weskus-mall.co.za/wp-content/uploads/2025/07/Weskus_Fathers-Day-Kids-Campaign_A1-Poster-Print_page-0001-scaled-1.jpg
ORGANIZER;CN="Weskus Mall":MAILTO:info@weskus-mall.co.za
END:VEVENT
BEGIN:VEVENT
DTSTART;TZID=Africa/Johannesburg:20250510T100000
DTEND;TZID=Africa/Johannesburg:20250510T120000
DTSTAMP:20260419T164746
CREATED:20250309T172502Z
LAST-MODIFIED:20250309T172502Z
UID:11972-1746871200-1746878400@weskus-mall.co.za
SUMMARY:Celebrate Mom this Mother's Day with Weskus Mall!
DESCRIPTION:[vc_row][vc_column][vc_column_text]Celebrate mom this Mother’s Day with Weskus Mall. \nMom’s will get to paint a beautiful canvas while sipping on a glass of bubbly (alcohol free) because all mom’s deserve a little art time and relaxation! \nTickets are R50 each and admits one person. (Tickets can be purchased at the Weskus Mall Centre Management Office) \nBookings essential: Email marketing@weskus-mall.co.za or phone 022 703 6900 to confirm your booking. \n  \n#WeskusMall #MothersDay #CelebratingMoms #SipandPaint #Bubbles[/vc_column_text][/vc_column][/vc_row][vc_row][vc_column][vc_masonry_media_grid css=”” grid_id=”vc_gid:1741540996414-5efeb157-8515-8″ include=”11973″][/vc_column][/vc_row]
URL:https://weskus-mall.co.za/event/11972-2/
LOCATION:Western Cape
CATEGORIES:Mothers Day,Weskus Mall,Weskus Mall Events
ATTACH;FMTTYPE=image/jpeg:https://weskus-mall.co.za/wp-content/uploads/2025/03/WK_Sip-Paint-Post.jpg
END:VEVENT
BEGIN:VEVENT
DTSTART;TZID=Africa/Johannesburg:20250510T100000
DTEND;TZID=Africa/Johannesburg:20250510T120000
DTSTAMP:20260419T164746
CREATED:20250308T220000Z
LAST-MODIFIED:20250724T192817Z
UID:14206-1746871200-1746878400@weskus-mall.co.za
SUMMARY:Celebrate Mom this Mother's Day with Weskus Mall!
DESCRIPTION:[vc_row][vc_column][vc_column_text]Celebrate mom this Mother’s Day with Weskus Mall. \nMom’s will get to paint a beautiful canvas while sipping on a glass of bubbly (alcohol free) because all mom’s deserve a little art time and relaxation! \nTickets are R50 each and admits one person. (Tickets can be purchased at the Weskus Mall Centre Management Office) \nBookings essential: Email marketing@weskus-mall.co.za or phone 022 703 6900 to confirm your booking. \n  \n#WeskusMall #MothersDay #CelebratingMoms #SipandPaint #Bubbles[/vc_column_text][/vc_column][/vc_row][vc_row][vc_column][vc_masonry_media_grid css=”” grid_id=”vc_gid:1741540996414-5efeb157-8515-8″ include=”11973″][/vc_column][/vc_row]
URL:https://weskus-mall.co.za/event/11972/
LOCATION:Western Cape
CATEGORIES:Mothers Day,Weskus Mall,Weskus Mall Events
ATTACH;FMTTYPE=image/jpeg:https://weskus-mall.co.za/wp-content/uploads/2025/07/WK_Sip-Paint-Post.jpg
END:VEVENT
BEGIN:VEVENT
DTSTART;TZID=Africa/Johannesburg:20250419T110000
DTEND;TZID=Africa/Johannesburg:20250419T130000
DTSTAMP:20260419T164746
CREATED:20250308T220000Z
LAST-MODIFIED:20250724T192817Z
UID:14205-1745060400-1745067600@weskus-mall.co.za
SUMMARY:Calling all Kids: Cookie decorating workshop this Easter with Weskus Mall!
DESCRIPTION:[vc_row][vc_column][vc_column_text] \n\n        –      ! \n\n\n\nFrom cookie decorating\, face painting and balloon characters the fun is endless!\nJoin us this Easter Saturday\, 19 April for a whole lot of EGG-citement!\n– Time slots: 11:00 (4-9 year old) & 12:00 (10-15 year olds)\n– Where: Weskus Mall Food Court\n\n\nBookings essential. Email marketing@weskus-mall.co.za or phone on 022 703 6900 to confirm your kids booking!\n\n\nSee you there!\n\n\n#WeskusMall #Easter #CookieDecoratingWorkshop\n\n[/vc_column_text][/vc_column][/vc_row][vc_row][vc_column][vc_masonry_media_grid css=”” grid_id=”vc_gid:1741540668022-8e90444d-8339-6″ include=”11969″][/vc_column][/vc_row]
URL:https://weskus-mall.co.za/event/calling-all-kids-cookie-decorating-workshop-this-easter-with-weskus-mall/
LOCATION:Western Cape
CATEGORIES:Easter,Weskus Mall,Weskus Mall Events
ATTACH;FMTTYPE=image/jpeg:https://weskus-mall.co.za/wp-content/uploads/2025/07/482324865_1044477211047418_5998865294962404931_n.jpg
END:VEVENT
BEGIN:VEVENT
DTSTART;TZID=Africa/Johannesburg:20250326T120000
DTEND;TZID=Africa/Johannesburg:20250326T140000
DTSTAMP:20260419T164746
CREATED:20250308T220000Z
LAST-MODIFIED:20250724T192815Z
UID:14204-1742990400-1742997600@weskus-mall.co.za
SUMMARY:Do -Nut Worry\, Weskus Mall is turning 16!
DESCRIPTION:[vc_row][vc_column][vc_column_text] \n\n –   \,          ! \n\n\nWe are celebrating our sweet 16 with a treat just for you!\n\n\nJoin us on the 26 March 2025\, between 12:00 -14:00 come and enjoy a FREE Birthday donut on us while you shop!\n\n\nWhile Stocks last! \n\n\n#WeskusMallSweet16 #FreeDonuts #Shopandcelebrate\n\n[/vc_column_text][/vc_column][/vc_row][vc_row][vc_column][vc_masonry_media_grid css=”” grid_id=”vc_gid:1741540304620-713f8c8e-6e26-10″ include=”11966″][/vc_column][/vc_row]
URL:https://weskus-mall.co.za/event/do-nut-worry-weskus-mall-is-turning-16/
LOCATION:Western Cape
CATEGORIES:Weskus Mall,Weskus Mall Events
ATTACH;FMTTYPE=image/png:https://weskus-mall.co.za/wp-content/uploads/2025/07/Weskus-Mall-donut-day-.png
END:VEVENT
BEGIN:VEVENT
DTSTART;TZID=Africa/Johannesburg:20250222T090000
DTEND;TZID=Africa/Johannesburg:20250222T160000
DTSTAMP:20260419T164746
CREATED:20250112T183106Z
LAST-MODIFIED:20250112T183106Z
UID:11730-1740214800-1740240000@weskus-mall.co.za
SUMMARY:Step into a world of wonder with Weskus Mall and our brick exhibition!
DESCRIPTION:We invites you and your family to experience a magical transformation as Weskus Mall becomes a brick wonderland! \nDiscover incredible brick creations crafted by talented enthusiasts! Join us for a day of creativity\, family fun\, and imagination! \nDate: 22 February 2025 \nTime: 9am – 4pm \nSee you there! \n#WeskusMall #BrickExhibition #FamilyFun #MagicalCreations #Lego
URL:https://weskus-mall.co.za/event/step-into-a-world-of-wonder-with-weskus-mall-and-our-brick-exhibition-2/
LOCATION:Western Cape
CATEGORIES:Weskus Mall,Weskus Mall Events
ATTACH;FMTTYPE=image/png:https://weskus-mall.co.za/wp-content/uploads/2025/01/Weskus-Mall_Lego-Expo_Instagram-1.png
END:VEVENT
BEGIN:VEVENT
DTSTART;TZID=Africa/Johannesburg:20250222T090000
DTEND;TZID=Africa/Johannesburg:20250222T160000
DTSTAMP:20260419T164746
CREATED:20250111T220000Z
LAST-MODIFIED:20250724T192812Z
UID:14203-1740214800-1740240000@weskus-mall.co.za
SUMMARY:Step into a world of wonder with Weskus Mall and our brick exhibition!
DESCRIPTION:We invites you and your family to experience a magical transformation as Weskus Mall becomes a brick wonderland! \nDiscover incredible brick creations crafted by talented enthusiasts! Join us for a day of creativity\, family fun\, and imagination! \nDate: 22 February 2025 \nTime: 9am – 4pm \nSee you there! \n#WeskusMall #BrickExhibition #FamilyFun #MagicalCreations #Lego
URL:https://weskus-mall.co.za/event/step-into-a-world-of-wonder-with-weskus-mall-and-our-brick-exhibition/
LOCATION:Western Cape
CATEGORIES:Weskus Mall,Weskus Mall Events
ATTACH;FMTTYPE=image/png:https://weskus-mall.co.za/wp-content/uploads/2025/07/Weskus-Mall_Lego-Expo_Instagram-1.png
END:VEVENT
END:VCALENDAR