BEGIN:VCALENDAR
VERSION:2.0
PRODID:-//Weskus Mall - ECPv6.15.15//NONSGML v1.0//EN
CALSCALE:GREGORIAN
METHOD:PUBLISH
X-WR-CALNAME:Weskus Mall
X-ORIGINAL-URL:https://weskus-mall.co.za
X-WR-CALDESC:Events for Weskus Mall
REFRESH-INTERVAL;VALUE=DURATION:PT1H
X-Robots-Tag:noindex
X-PUBLISHED-TTL:PT1H
BEGIN:VTIMEZONE
TZID:Africa/Johannesburg
BEGIN:STANDARD
TZOFFSETFROM:+0200
TZOFFSETTO:+0200
TZNAME:SAST
DTSTART:20240101T000000
END:STANDARD
END:VTIMEZONE
BEGIN:VEVENT
DTSTART;TZID=Africa/Johannesburg:20251130T103000
DTEND;TZID=Africa/Johannesburg:20251130T170000
DTSTAMP:20260420T095608
CREATED:20250909T210811Z
LAST-MODIFIED:20250909T211249Z
UID:16588-1764498600-1764522000@weskus-mall.co.za
SUMMARY:The Annual Toyrun is almost here!
DESCRIPTION:Weskus Mall is proud to once again be the starting point for the Mass Ride taking place on Sunday\, 30 November 2025. \nJoin in the fun and help make a difference in the lives of children in need. \nFor more information\, please contact Corna at 081 270 7657.
URL:https://weskus-mall.co.za/event/the-annual-toyrun-is-almost-here/
LOCATION:Weskus Mall\, 110 Saldanha Road\,\, Vredenburg\, Western Cape\, 7380\, South Africa
CATEGORIES:Weskus Mall Events
ATTACH;FMTTYPE=image/jpeg:https://weskus-mall.co.za/wp-content/uploads/2025/09/Toyrun.jpg
ORGANIZER;CN="Weskus Mall":MAILTO:info@weskus-mall.co.za
END:VEVENT
BEGIN:VEVENT
DTSTART;TZID=Africa/Johannesburg:20251203T193000
DTEND;TZID=Africa/Johannesburg:20251210T010000
DTSTAMP:20260420T095608
CREATED:20251203T114010Z
LAST-MODIFIED:20251210T103423Z
UID:16789-1764790200-1765328400@weskus-mall.co.za
SUMMARY:Competition Time with Mr Grinch!
DESCRIPTION:! \nThink you know how many Grinch stickers we’ve hidden around the Weskus Mall? \nTake your best guess and let us know who is the Grinchiest of them all!\nDrop your guess in the comments section on our Facebook page\nStand a chance to WIN a meal voucher valued at R250.00!\nCompetition ends 10 December 2025 \nT’s & C’s apply and available on our website – www.weskus-mall.co.za \n! \n#WeskusMall #mrgrinch #competitiontime #festivetime
URL:https://weskus-mall.co.za/event/competition-time-with-mr-grinch/
LOCATION:Weskus Mall\, 110 Saldanha Road\,\, Vredenburg\, Western Cape\, 7380\, South Africa
CATEGORIES:Competitions
ATTACH;FMTTYPE=image/jpeg:https://weskus-mall.co.za/wp-content/uploads/2025/12/Presentation1.jpg
ORGANIZER;CN="Weskus Mall":MAILTO:info@weskus-mall.co.za
END:VEVENT
BEGIN:VEVENT
DTSTART;TZID=Africa/Johannesburg:20251209T193000
DTEND;TZID=Africa/Johannesburg:20251217T010000
DTSTAMP:20260420T095608
CREATED:20251210T102134Z
LAST-MODIFIED:20251210T102614Z
UID:16798-1765308600-1765933200@weskus-mall.co.za
SUMMARY:Selfie Competition with Mr Grinch!
DESCRIPTION:! \nThink you can out-Grinch the Grinch?\nSnap a selfie with Mr Grinch at Weskus Mall and show off your festive flair! \nPost your selfie in the comments on Facebook and prove you’re the Grinchiest of them all!\nPrize: A meal voucher worth R250\nHurry! Competition ends 16 December 2025 \nT’s & C’s apply. Full details on our website: www.weskus-mall.co.za \nLet the festive fun begin—and may the Grinchiest win!
URL:https://weskus-mall.co.za/event/selfie-competition-with-mr-grinch/
LOCATION:Weskus Mall\, 110 Saldanha Road\,\, Vredenburg\, Western Cape\, 7380\, South Africa
CATEGORIES:Competitions
ATTACH;FMTTYPE=image/jpeg:https://weskus-mall.co.za/wp-content/uploads/2025/12/Selfie-Grinch.jpg
ORGANIZER;CN="Weskus Mall":MAILTO:info@weskus-mall.co.za
END:VEVENT
BEGIN:VEVENT
DTSTART;TZID=Africa/Johannesburg:20251215T100000
DTEND;TZID=Africa/Johannesburg:20260126T010000
DTSTAMP:20260420T095608
CREATED:20251226T112917Z
LAST-MODIFIED:20251226T112917Z
UID:16805-1765792800-1769389200@weskus-mall.co.za
SUMMARY:Together\, we turn compassion into action! 💙
DESCRIPTION:Together\, we turn compassion into action! 💙 \nThis December\, Weskus Mall invites our community to open their hearts and support those in need. You can donate your pre-loved clothing\, household items\, non-perishable food\, or pet food by dropping them off at our Management Office. \nEvery donation—big or small—helps make a real difference.\nThroughout January 2026\, we will be collecting\, sorting\, and distributing all items to various local NGOs in our community. \nLet’s share the spirit of generosity and uplift our community together.\nDonate today and help us spread the word! 🙌 \n#WeskusMall #CommunityCare #GiveBack #CharityDrive #TogetherWeCan
URL:https://weskus-mall.co.za/event/together-we-turn-compassion-into-action-%f0%9f%92%99/
LOCATION:Weskus Mall\, 110 Saldanha Road\,\, Vredenburg\, Western Cape\, 7380\, South Africa
CATEGORIES:Charity,Weskus Mall Events
ATTACH;FMTTYPE=image/jpeg:https://weskus-mall.co.za/wp-content/uploads/2025/12/WM_Festive-Charity-Drive_2025_Print-1-scaled.jpg
ORGANIZER;CN="Weskus Mall":MAILTO:info@weskus-mall.co.za
END:VEVENT
BEGIN:VEVENT
DTSTART;TZID=Africa/Johannesburg:20251216T100000
DTEND;TZID=Africa/Johannesburg:20251224T003000
DTSTAMP:20260420T095608
CREATED:20251211T182303Z
LAST-MODIFIED:20251226T112946Z
UID:16804-1765879200-1766536200@weskus-mall.co.za
SUMMARY:CALLING ALL SHOPPERS & TIKTOK LOVERS!
DESCRIPTION:🚨 CALLING ALL SHOPPERS & TIKTOK LOVERS! 🚨\nWeskus Mall is giving you the chance to WIN R2 000 in vouchers just for showing off your brand-new shopping haul! 😍🛍️ \nHere’s how to enter:\n1️⃣ Do your shopping at Weskus Mall\n2️⃣ Head to our TikTok Room (yep – right here in the mall!)\n3️⃣ Record a fun\, creative Shopping Haul TikTok of what you have bought in the mall. \n4️⃣ Post it on TikTok & tag us \nCompetition ends 23 December – Hurry and get moving! \nT’s & C’s apply and available on the Weskus Mall website www.weskus-mall.co.za \n🎥 Whether you dance\, reveal\, spin\, or unbox — make it fun\, make it YOU! \nThe most exciting entries stand a chance to take home the prize!\nReady… set… HAUL! 💃🔥 \n#WeskusMall #TikTokHaul #CompetitionTime
URL:https://weskus-mall.co.za/event/calling-all-shoppers-tiktok-lovers/
LOCATION:Weskus Mall\, 110 Saldanha Road\,\, Vredenburg\, Western Cape\, 7380\, South Africa
CATEGORIES:Competitions
ATTACH;FMTTYPE=image/jpeg:https://weskus-mall.co.za/wp-content/uploads/2025/12/WM_Tiktok-Lounge_Poster-scaled.jpg
ORGANIZER;CN="Weskus Mall":MAILTO:info@weskus-mall.co.za
END:VEVENT
BEGIN:VEVENT
DTSTART;TZID=Africa/Johannesburg:20251219T100000
DTEND;TZID=Africa/Johannesburg:20251219T130000
DTSTAMP:20260420T095608
CREATED:20251125T070552Z
LAST-MODIFIED:20251125T070713Z
UID:16782-1766138400-1766149200@weskus-mall.co.za
SUMMARY:The wait is finally over — Build-A-Bear is coming to Weskus Mall on 19 December!
DESCRIPTION:The wait is finally over — Build-A-Bear is coming to Weskus Mall on 19 December!  \nPlease note that bookings are essential. There are two time slots available: 10:00 and 13:00. \nWhen making your booking\, please be clear about the time slot you want. All payments must be made on or before 10 December 2025. \nPayments can be made at the Centre Management Office on the lower level\, close to the bathrooms. Card facilities are available. \nTo secure your spot\, please contact Joanne or Olivia on 022 703 6900 and advise when you will be on-site to make payment. \nWe look forward to hearing from you!
URL:https://weskus-mall.co.za/event/the-wait-is-finally-over-build-a-bear-is-coming-to-weskus-mall-on-19-december/
LOCATION:Weskus Mall\, 110 Saldanha Road\,\, Vredenburg\, Western Cape\, 7380\, South Africa
CATEGORIES:Weskus Mall Events
ATTACH;FMTTYPE=image/jpeg:https://weskus-mall.co.za/wp-content/uploads/2025/11/Build-a-Bear.jpg
ORGANIZER;CN="Weskus Mall":MAILTO:info@weskus-mall.co.za
END:VEVENT
BEGIN:VEVENT
DTSTART;TZID=Africa/Johannesburg:20260114T100000
DTEND;TZID=Africa/Johannesburg:20260120T180000
DTSTAMP:20260420T095608
CREATED:20260105T063108Z
LAST-MODIFIED:20260105T063108Z
UID:16812-1768384800-1768932000@weskus-mall.co.za
SUMMARY:Back to School Photo Competition!
DESCRIPTION:🎒📸 Back to School Photo Competition! 📸🎒\nNew school year\, new memories\, and lots of smiles! 😄 \nFrom neat uniforms to end-of-day giggles — send us your before & after first-day-of-school photos and stand a chance to win a share of R5 000 in vouchers 💥💸 \n📅 14–20 January 2026\n📧 Email entries to info@weskus-mall.co.za\n👦👧 Open to Grade R – Grade 4 learners \nT’s & C’s apply \n#BackToSchool #SchoolSmiles #Weskusmall
URL:https://weskus-mall.co.za/event/back-to-school-photo-competition/
LOCATION:Weskus Mall\, 110 Saldanha Road\,\, Vredenburg\, Western Cape\, 7380\, South Africa
CATEGORIES:Competitions
ATTACH;FMTTYPE=image/jpeg:https://weskus-mall.co.za/wp-content/uploads/2026/01/WM_Back-to-School_Post.jpg
ORGANIZER;CN="Weskus Mall":MAILTO:info@weskus-mall.co.za
END:VEVENT
BEGIN:VEVENT
DTSTART;TZID=Africa/Johannesburg:20260201T080000
DTEND;TZID=Africa/Johannesburg:20260212T170000
DTSTAMP:20260420T095608
CREATED:20260129T131849Z
LAST-MODIFIED:20260130T115025Z
UID:16867-1769932800-1770915600@weskus-mall.co.za
SUMMARY:Win this Valentines Day with Weskus Mall
DESCRIPTION:Win a romantic Valentines dinner for two\, catered by The West Coast Chef School\, in the comfort of your own home. \nTo enter\, visit our social media pages & tell us what your ideal menu would be that would impress your Valentine’s date? \nLucky draw will take place 13 February 2026. T’s & C’s Apply.
URL:https://weskus-mall.co.za/event/win-this-valentines-day-with-weskus-mall/
LOCATION:Weskus Mall\, 110 Saldanha Road\,\, Vredenburg\, Western Cape\, 7380\, South Africa
CATEGORIES:Competitions
ATTACH;FMTTYPE=image/png:https://weskus-mall.co.za/wp-content/uploads/2026/01/Weskus_VDAY-CAMPAIGN-2026_PROOF-2.png
ORGANIZER;CN="Weskus Mall":MAILTO:info@weskus-mall.co.za
END:VEVENT
BEGIN:VEVENT
DTSTART;TZID=Africa/Johannesburg:20260202T080000
DTEND;TZID=Africa/Johannesburg:20260228T170000
DTSTAMP:20260420T095608
CREATED:20260202T070519Z
LAST-MODIFIED:20260202T070654Z
UID:16885-1770019200-1772298000@weskus-mall.co.za
SUMMARY:Win just by being on the Whatsapp group
DESCRIPTION:All Weskus Mall Events\, deals and news WhatsApp group members will be entered into the draw to WIN a R250 Voucher on the 28 Feb 2026.\nT’s & C’s apply
URL:https://weskus-mall.co.za/event/win-just-by-being-on-the-whatsapp-group/
LOCATION:Weskus Mall\, 110 Saldanha Road\,\, Vredenburg\, Western Cape\, 7380\, South Africa
CATEGORIES:Competitions
ATTACH;FMTTYPE=image/jpeg:https://weskus-mall.co.za/wp-content/uploads/2026/02/WM_Whatsapp-Group-Template2.jpg
ORGANIZER;CN="Weskus Mall":MAILTO:info@weskus-mall.co.za
END:VEVENT
BEGIN:VEVENT
DTSTART;TZID=Africa/Johannesburg:20260228T090000
DTEND;TZID=Africa/Johannesburg:20260228T170000
DTSTAMP:20260420T095608
CREATED:20260121T114057Z
LAST-MODIFIED:20260123T060448Z
UID:16820-1772269200-1772298000@weskus-mall.co.za
SUMMARY:Weskus CANSA Shavathon
DESCRIPTION:Let’s come together with compassion and courage to support CANSA at the CANSA Shavathon 2026. 💛 \nJoin us on Saturday\, 28 February 2026 on the Upper Level\, in the Food Court and take part by spraying or shaving your hair in solidarity with those whose lives have been touched by cancer. \n💰 R50 – Adults\n💰 R25 – Kids \nNot ready to take part? You’re always welcome to donate — every contribution helps bring hope and support where it’s needed most. If you wish to be a volunteer on the day to donate your time\, please make contact with the marketing team at Weskus Mall on  022 703 6900 / marketingadmin@weskus-mall.co.za \nTogether\, we can make a difference and remind those affected that they are not alone. 💛
URL:https://weskus-mall.co.za/event/weskus-cansa-shavathon/
LOCATION:Weskus Mall\, 110 Saldanha Road\,\, Vredenburg\, Western Cape\, 7380\, South Africa
CATEGORIES:Charity,Weskus Mall
ATTACH;FMTTYPE=image/jpeg:https://weskus-mall.co.za/wp-content/uploads/2026/01/Weskus-Mall-Poster.jpg
ORGANIZER;CN="Weskus Mall":MAILTO:info@weskus-mall.co.za
END:VEVENT
BEGIN:VEVENT
DTSTART;TZID=Africa/Johannesburg:20260420T090000
DTEND;TZID=Africa/Johannesburg:20260420T153000
DTSTAMP:20260420T095608
CREATED:20260327T090511Z
LAST-MODIFIED:20260327T090511Z
UID:17155-1776675600-1776699000@weskus-mall.co.za
SUMMARY:Mobile Mammograms
DESCRIPTION:Weskus Mall: Upper level\, close to entrance 4\, 110 Saldanha Road \n\nMost medical aids accepted (40+ covered from screening benefits\, no out-of-pocket costs)\nCash price: R1\,200 (lowest in the country). Pensioners R1\,000\nFlexible payment options: 3-month plan or R89/month subscription\nBring ID & medical aid card/cash\nNo deodorant on the day\nResults in 3-5 working days\nBookings essential\n\nEARLY DETECTION SAVES LIVES\nLADIES 40 YEARS AND OLDER\n087 077 0000 (Call)\n067 403 6564 (W/App)\nbookings@rdisa.co.za
URL:https://weskus-mall.co.za/event/mobile-mammograms/
LOCATION:Weskus Mall\, 110 Saldanha Road\,\, Vredenburg\, Western Cape\, 7380\, South Africa
CATEGORIES:Weskus Mall,Weskus Mall Events
ATTACH;FMTTYPE=image/jpeg:https://weskus-mall.co.za/wp-content/uploads/2026/03/Vredenburg-20th-April.jpg
ORGANIZER;CN="Weskus Mall":MAILTO:info@weskus-mall.co.za
END:VEVENT
END:VCALENDAR