BEGIN:VCALENDAR
VERSION:2.0
PRODID:-//Weskus Mall - ECPv6.15.15//NONSGML v1.0//EN
CALSCALE:GREGORIAN
METHOD:PUBLISH
X-ORIGINAL-URL:https://weskus-mall.co.za
X-WR-CALDESC:Events for Weskus Mall
REFRESH-INTERVAL;VALUE=DURATION:PT1H
X-Robots-Tag:noindex
X-PUBLISHED-TTL:PT1H
BEGIN:VTIMEZONE
TZID:Africa/Johannesburg
BEGIN:STANDARD
TZOFFSETFROM:+0200
TZOFFSETTO:+0200
TZNAME:SAST
DTSTART:20240101T000000
END:STANDARD
END:VTIMEZONE
BEGIN:VEVENT
DTSTART;TZID=Africa/Johannesburg:20250614T100000
DTEND;TZID=Africa/Johannesburg:20250614T120000
DTSTAMP:20260420T095143
CREATED:20250515T220000Z
LAST-MODIFIED:20250724T192822Z
UID:14208-1749895200-1749902400@weskus-mall.co.za
SUMMARY:Celebrate Father's Day with Weskus Mall!
DESCRIPTION:[vc_row][vc_column][vc_column_text css=””] \nThis June\, we’re inviting all dads and their kids to join us for a special CrossFit Day event – a fun-filled celebration of strength\, bonding\, and teamwork! \n  Designed to build trust and connection\, this event features age-appropriate CrossFit workouts tailored for both adults and children. \nGet ready to break a sweat\, share some laughs\, and enjoy a bit of healthy competition! \n\nEvent date:  14 June 2025 \nTime:  10:00 – 12:00 \nPrize giving: 12:30pm \nBooking is essential.   for more information\, contact our Marketing Team at 022 703 6900 – email Joanne on marketing@weskus-mall.co.za \n[/vc_column_text][/vc_column][/vc_row][vc_row][vc_column][vc_masonry_media_grid css=”” grid_id=”vc_gid:1747387241685-a2bc764c-99de-10″ include=”12131″][/vc_column][/vc_row]
URL:https://weskus-mall.co.za/event/%f0%9f%92%aa-celebrate-fathers-day-with-weskus-mall-%f0%9f%92%99/
LOCATION:Weskus Mall\, 110 Saldanha Road\,\, Vredenburg\, Western Cape\, 7380\, South Africa
CATEGORIES:Mothers Day,Weskus Mall,Weskus Mall Events
ATTACH;FMTTYPE=image/jpeg:https://weskus-mall.co.za/wp-content/uploads/2025/07/Weskus_Fathers-Day-Kids-Campaign_A1-Poster-Print_page-0001-scaled-1.jpg
ORGANIZER;CN="Weskus Mall":MAILTO:info@weskus-mall.co.za
END:VEVENT
BEGIN:VEVENT
DTSTART;TZID=Africa/Johannesburg:20250616T080000
DTEND;TZID=Africa/Johannesburg:20250622T170000
DTSTAMP:20260420T095143
CREATED:20250614T220000Z
LAST-MODIFIED:20250724T192840Z
UID:14217-1750060800-1750611600@weskus-mall.co.za
SUMMARY:Caption this image and one random winner stands a chance to WIN a R500 Volpes Voucher!
DESCRIPTION:[vc_row][vc_column][vc_column_text]Caption this image and one random winner stands a chance to WIN a R500 Volpes Voucher! \nCompetition closes Sunday 22 June 2025. \nT’s & C’s apply and can be found with this post. \nDisclaimer: Please note that Weskus Mall will only announce a winner on Monday 23 June 2025 via our Facebook page\, not via a link. Weskus Mall will not send a link notifying the winner of this competition. Thank you. \n#WeskusMall #CaptionThis #Competition #CanYouCaptionThis #Voucher[/vc_column_text][/vc_column][/vc_row][vc_row][vc_column][vc_masonry_media_grid css=”” grid_id=”vc_gid:1749976746307-6c9d9c28-57e4-6″ include=”12438\,12440″][/vc_column][/vc_row]
URL:https://weskus-mall.co.za/event/caption-this-image-and-one-random-winner-stands-a-chance-to-win-a-r500-volpes-voucher/
LOCATION:Western Cape
CATEGORIES:Competitions,Weskus Mall
ATTACH;FMTTYPE=image/png:https://weskus-mall.co.za/wp-content/uploads/2025/07/Caption-This-Volpes-image-.png
END:VEVENT
BEGIN:VEVENT
DTSTART;TZID=Africa/Johannesburg:20250616T080000
DTEND;TZID=Africa/Johannesburg:20250622T170000
DTSTAMP:20260420T095143
CREATED:20250615T084612Z
LAST-MODIFIED:20250615T084612Z
UID:12437-1750060800-1750611600@weskus-mall.co.za
SUMMARY:Caption this image and one random winner stands a chance to WIN a R500 Volpes Voucher!
DESCRIPTION:[vc_row][vc_column][vc_column_text]Caption this image and one random winner stands a chance to WIN a R500 Volpes Voucher! \nCompetition closes Sunday 22 June 2025. \nT’s & C’s apply and can be found with this post. \nDisclaimer: Please note that Weskus Mall will only announce a winner on Monday 23 June 2025 via our Facebook page\, not via a link. Weskus Mall will not send a link notifying the winner of this competition. Thank you. \n#WeskusMall #CaptionThis #Competition #CanYouCaptionThis #Voucher[/vc_column_text][/vc_column][/vc_row][vc_row][vc_column][vc_masonry_media_grid css=”” grid_id=”vc_gid:1749976746307-6c9d9c28-57e4-6″ include=”12438\,12440″][/vc_column][/vc_row]
URL:https://weskus-mall.co.za/event/caption-this-image-and-one-random-winner-stands-a-chance-to-win-a-r500-volpes-voucher-2/
LOCATION:Western Cape
CATEGORIES:Competitions,Weskus Mall
ATTACH;FMTTYPE=image/png:https://weskus-mall.co.za/wp-content/uploads/2025/06/Caption-This-Volpes-image-.png
END:VEVENT
BEGIN:VEVENT
DTSTART;TZID=Africa/Johannesburg:20250628T080000
DTEND;TZID=Africa/Johannesburg:20250628T163000
DTSTAMP:20260420T095143
CREATED:20250626T220000Z
LAST-MODIFIED:20250724T192844Z
UID:14219-1751097600-1751128200@weskus-mall.co.za
SUMMARY:Predict the Score and stand a chance to win with Weskus Mall
DESCRIPTION:[vc_row][vc_column][vc_column_text] \n\nCan the Springboks take the win over the Barbarians this coming Saturday\, 28 June 2025?\n\n\nWeskus Mall is backing our boys in green and gold this Saturday! \n\n\nSouth Africa vs Barbarians\n\n\nKickoff starts at 17h00.\n\n\nWatch the game live on our big screen.\n\n\nPredict the final score in the comments section\, and you could stand a chance to WIN a voucher to the value of R250! \n\n\nCompetition closes Saturday\, 28 June 2025  at 16h30\n\n\n\nT’s & C’s can be found with this post\n\n\n\n  :                      \, 30 June  5.                    \n\n\n#WeskusMall #PredictTheScore #Competition #RugbyMatch #SouthAfrica\n#Barbarians \n\n[/vc_column_text][/vc_column][/vc_row][vc_row][vc_column][vc_masonry_media_grid css=”” grid_id=”vc_gid:1751009546411-fc128a95-c015-1″ include=”12504\,12506″][/vc_column][/vc_row]
URL:https://weskus-mall.co.za/event/predict-the-score-and-stand-a-chance-to-win-with-weskus-mall/
LOCATION:Western Cape
CATEGORIES:Competitions,Weskus Mall
ATTACH;FMTTYPE=image/png:https://weskus-mall.co.za/wp-content/uploads/2025/07/Mothers-day-post-2025-06-25T092230.146.png
END:VEVENT
END:VCALENDAR