BEGIN:VCALENDAR
VERSION:2.0
PRODID:-//Weskus Mall - ECPv6.15.15//NONSGML v1.0//EN
CALSCALE:GREGORIAN
METHOD:PUBLISH
X-WR-CALNAME:Weskus Mall
X-ORIGINAL-URL:https://weskus-mall.co.za
X-WR-CALDESC:Events for Weskus Mall
REFRESH-INTERVAL;VALUE=DURATION:PT1H
X-Robots-Tag:noindex
X-PUBLISHED-TTL:PT1H
BEGIN:VTIMEZONE
TZID:Africa/Johannesburg
BEGIN:STANDARD
TZOFFSETFROM:+0200
TZOFFSETTO:+0200
TZNAME:SAST
DTSTART:20240101T000000
END:STANDARD
END:VTIMEZONE
BEGIN:VEVENT
DTSTART;TZID=Africa/Johannesburg:20250811T080000
DTEND;TZID=Africa/Johannesburg:20250817T170000
DTSTAMP:20260420T063150
CREATED:20250811T080307Z
LAST-MODIFIED:20250811T080307Z
UID:16294-1754899200-1755450000@weskus-mall.co.za
SUMMARY:Caption This Image and stand a chance to win with Weskus Mall
DESCRIPTION:[vc_row][vc_column][vc_column_text]Caption this image and one random winner could stand a chance to win a R250 @Spur voucher! \nCompetition closes Sunday 17 August 2025 at 17:00. \nT’s & C’s apply and can be found with this post \n: Please note that Weskus Mall will only announce a winner on Monday 18 August 2025 via our Facebook page\, and not via a link.  \n#WeskusMall #CaptionThis #Competition #CanYouCaptionThis #Voucher[/vc_column_text][/vc_column][/vc_row][vc_row][vc_column][vc_masonry_media_grid css=”” grid_id=”vc_gid:1754899079903-6cf0bd4e-d193-6″ include=”16295\,16296″][/vc_column][/vc_row]
URL:https://weskus-mall.co.za/event/caption-this-image-and-stand-a-chance-to-win-with-weskus-mall/
LOCATION:Western Cape
CATEGORIES:Competitions,Weskus Mall
ATTACH;FMTTYPE=image/png:https://weskus-mall.co.za/wp-content/uploads/2025/08/spur-latest-image-.png
END:VEVENT
BEGIN:VEVENT
DTSTART;TZID=Africa/Johannesburg:20250811T080000
DTEND;TZID=Africa/Johannesburg:20250818T170000
DTSTAMP:20260420T063150
CREATED:20250608T220000Z
LAST-MODIFIED:20250724T192833Z
UID:14214-1754899200-1755536400@weskus-mall.co.za
SUMMARY:caption this image and stand a chance to win a R500 Voucher!
DESCRIPTION:[vc_row][vc_column][vc_column_text]Caption this image and one random winner stands a chance to WIN a R500 Voucher! Comment your caption in the comment section below. \nCompetition closes Sunday 17 August 2025. \nT’s & C’s apply and can be found with this post and on Weskus Mall’s website. \n :                 a       18 August                  . \n#WeskusMall #CaptionThis #Competition #CanYouCaptionThis #Voucher[/vc_column_text][/vc_column][/vc_row][vc_row][vc_column][vc_masonry_media_grid css=”” grid_id=”vc_gid:1749488443448-21f7644a-abf2-0″ include=”12368″][/vc_column][/vc_row]
URL:https://weskus-mall.co.za/event/caption-this-image-and-stand-a-chance-to-win-a-r500-voucher/
LOCATION:Western Cape
CATEGORIES:Competitions,Weskus Mall
ATTACH;FMTTYPE=image/png:https://weskus-mall.co.za/wp-content/uploads/2025/07/29.png
END:VEVENT
BEGIN:VEVENT
DTSTART;TZID=Africa/Johannesburg:20250823T080000
DTEND;TZID=Africa/Johannesburg:20250823T170000
DTSTAMP:20260420T063150
CREATED:20250822T143238Z
LAST-MODIFIED:20250822T144529Z
UID:16490-1755936000-1755968400@weskus-mall.co.za
SUMMARY:Predict the score and stand a chance to WIN with Weskus Mall!
DESCRIPTION:[vc_row][vc_column][vc_column_text css=””] \n\nCan the Springboks take the win from the Aussies?\n\n\nWeskus Mall is backing our boys in green and gold this weekend! \n\n\nSouth Africa vs Austrailia\n\n\nKickoff starts at 17:00pm. Join us on Saturday\, 23 August 2025\, in the Food Court.\nPredict the final score in the comments section\, and you could stand a chance to WIN a voucher to the value of R250! \n\n\nCompetition closes Saturday\, 23 August  2025 at 16:30pm T’s & C’s apply and can be found with this post.\n :           \, 25 August  .                 \,  .#WeskusMall\n#PredictTheScore #Competition #RugbyMatch #SouthAfrica\n\n\n#Australia\n\n[/vc_column_text][/vc_column][/vc_row][vc_row][vc_column][vc_masonry_media_grid css=”” grid_id=”vc_gid:1755873719267-342d8dbe-99f9-3″ include=”16491\,16492″][/vc_column][/vc_row]
URL:https://weskus-mall.co.za/event/predict-the-score-and-stand-a-chance-to-win-with-weskus-mall-3/
LOCATION:Western Cape
CATEGORIES:Competitions,Weskus Mall
ATTACH;FMTTYPE=image/png:https://weskus-mall.co.za/wp-content/uploads/2025/08/predict-the-score-august-twenty-third.png
END:VEVENT
END:VCALENDAR