BEGIN:VCALENDAR
VERSION:2.0
PRODID:-//Weskus Mall - ECPv6.15.15//NONSGML v1.0//EN
CALSCALE:GREGORIAN
METHOD:PUBLISH
X-WR-CALNAME:Weskus Mall
X-ORIGINAL-URL:https://weskus-mall.co.za
X-WR-CALDESC:Events for Weskus Mall
REFRESH-INTERVAL;VALUE=DURATION:PT1H
X-Robots-Tag:noindex
X-PUBLISHED-TTL:PT1H
BEGIN:VTIMEZONE
TZID:Africa/Johannesburg
BEGIN:STANDARD
TZOFFSETFROM:+0200
TZOFFSETTO:+0200
TZNAME:SAST
DTSTART:20240101T000000
END:STANDARD
END:VTIMEZONE
BEGIN:VEVENT
DTSTART;TZID=Africa/Johannesburg:20251101T080000
DTEND;TZID=Africa/Johannesburg:20251103T100000
DTSTAMP:20260420T014653
CREATED:20251029T131550Z
LAST-MODIFIED:20251029T131550Z
UID:16690-1761984000-1762164000@weskus-mall.co.za
SUMMARY:Predict the man of the match and stand a chance to win at Weskus Mall!
DESCRIPTION:?  \nWith the lineup that   has prepared for Saturday’s clash against Japan\, do you think South Africa has what it takes to pull off the win? \n\n ’    ! \nPredict the Man of the Match for Saturday’s game against Japan and stand a chance to win a Volpes\, The Home Of Linen voucher worth R500! ️ \n\nT’s & C’s apply – Competition ends at 18:00 on Saturday\, 1 November 2025 – Winner will be announced on Monday 3 November 2025. \nDrop your prediction in the comments below  \n#Springboks #Rugby #VolpesGiveaway #Bokke #GameDay #weskusmall
URL:https://weskus-mall.co.za/event/predict-the-man-of-the-match-and-stand-a-chance-to-win-at-weskus-mall/
LOCATION:Weskus Mall\, 110 Saldanha Road\,\, Vredenburg\, Western Cape\, 7380\, South Africa
CATEGORIES:Competitions
ATTACH;FMTTYPE=image/png:https://weskus-mall.co.za/wp-content/uploads/2025/10/Predict-the-score-Nov.png
ORGANIZER;CN="Weskus Mall":MAILTO:info@weskus-mall.co.za
END:VEVENT
BEGIN:VEVENT
DTSTART;TZID=Africa/Johannesburg:20251108T080000
DTEND;TZID=Africa/Johannesburg:20251110T220000
DTSTAMP:20260420T014653
CREATED:20251105T140812Z
LAST-MODIFIED:20251110T102131Z
UID:16742-1762588800-1762812000@weskus-mall.co.za
SUMMARY:Can the Bokke do to France what they did to Japan last weekend?
DESCRIPTION:Competition time at Weskus Mall ! \nPredict the Man of the Match for Saturday’s game against France and stand a chance to win a Yukon Spur Steak Ranch voucher valued at R250! ️ \nT’s & C’s apply – Competition ends at 22:00 on Saturday\, 8 November 2025 – Winner will be announced on Monday 10 November 2025. \nDrop your prediction in the comments below \n#Springboks #Rugby #spur #Bokke #GameDay #weskusmall \nPLEASE NOTE: The game between the Springboks and France will not be screened live at Weskus Mall\, as the mall will already be closed at that time.
URL:https://weskus-mall.co.za/event/can-the-bokke-do-to-france-what-they-did-to-japan-last-weekend-%f0%9f%8f%89/
LOCATION:Weskus Mall\, 110 Saldanha Road\,\, Vredenburg\, Western Cape\, 7380\, South Africa
CATEGORIES:Competitions
ATTACH;FMTTYPE=image/jpeg:https://weskus-mall.co.za/wp-content/uploads/2025/11/Predict-the-score-Nov-8th1.jpg
ORGANIZER;CN="Weskus Mall":MAILTO:info@weskus-mall.co.za
END:VEVENT
BEGIN:VEVENT
DTSTART;TZID=Africa/Johannesburg:20251108T080000
DTEND;TZID=Africa/Johannesburg:20251201T220000
DTSTAMP:20260420T014653
CREATED:20251110T125248Z
LAST-MODIFIED:20251111T125612Z
UID:16756-1762588800-1764626400@weskus-mall.co.za
SUMMARY:Win just by being in our whatsapp group
DESCRIPTION:
URL:https://weskus-mall.co.za/event/win-just-by-being-in-our-whatsapp-group/
LOCATION:Weskus Mall\, 110 Saldanha Road\,\, Vredenburg\, Western Cape\, 7380\, South Africa
CATEGORIES:Competitions
ATTACH;FMTTYPE=image/jpeg:https://weskus-mall.co.za/wp-content/uploads/2025/11/WM_Whatsapp-post_NOV20251.jpg
ORGANIZER;CN="Weskus Mall":MAILTO:info@weskus-mall.co.za
END:VEVENT
BEGIN:VEVENT
DTSTART;TZID=Africa/Johannesburg:20251115T140000
DTEND;TZID=Africa/Johannesburg:20251117T220000
DTSTAMP:20260420T014653
CREATED:20251111T125301Z
LAST-MODIFIED:20251111T125540Z
UID:16757-1763215200-1763416800@weskus-mall.co.za
SUMMARY:Competition Time at Weskus Mall!
DESCRIPTION:Competition Time at Weskus Mall!  \nDo you think you know who will shine brightest on the field?\nPredict the Man of the Match for today’s game against Italy and stand a chance to WIN a R250 Yukon Spur Steak Ranch voucher!  \n Catch all the action live! The game will be broadcast in the Food Court on the big screen — bring your friends and cheer on the Bokke with us!  \n Competition closes: Saturday\, 15 November 2025 at 14:00\n Winner announced: Monday\, 17 November 2025\n T’s & C’s apply — see details on the Weskus Mall website. \n Visit the Weskus Mall Facebook page and drop your prediction in the comments! \n#Springboks #Rugby #Spur #Bokke #GameDay #WeskusMall #Competition #LiveScreening
URL:https://weskus-mall.co.za/event/%f0%9f%94%a5-competition-time-at-weskus-mall-%f0%9f%94%a5/
LOCATION:Weskus Mall\, 110 Saldanha Road\,\, Vredenburg\, Western Cape\, 7380\, South Africa
CATEGORIES:Competitions
ATTACH;FMTTYPE=image/jpeg:https://weskus-mall.co.za/wp-content/uploads/2025/11/Predict-the-man-of-the-match-Nov-2025.jpg
ORGANIZER;CN="Weskus Mall":MAILTO:info@weskus-mall.co.za
END:VEVENT
BEGIN:VEVENT
DTSTART;TZID=Africa/Johannesburg:20251122T193000
DTEND;TZID=Africa/Johannesburg:20251124T220000
DTSTAMP:20260420T014653
CREATED:20251121T105802Z
LAST-MODIFIED:20251121T111221Z
UID:16776-1763839800-1764021600@weskus-mall.co.za
SUMMARY:Predict the man of the match 22 Nov 2025
DESCRIPTION:GAME DAY GIVE A-WAY!\nThink you know who’s going to dominate the field today?\nDrop your Man of the Match prediction and you could WIN a R250 Yukon Spur Steak Ranch voucher! \nCatch the action LIVE on the BIG SCREEN in the Weskus Mall Food Court!\nBring your gees\, bring your friends\, and come cheer on the Bokke with us! \n⏰ Competition closes: Saturday\, 22 November 2025 at 19:00\nWinner announced: Monday\, 24 November 2025\nT’s & C’s apply \nHead to the Weskus Mall Facebook page and drop your prediction in the comments to enter!\nLet’s go\, Bokke! \n#Springboks #Rugby #Spur #Bokke #GameDay #WeskusMall #Competition #LiveScreening \n 
URL:https://weskus-mall.co.za/event/predict-the-man-of-the-match-22-nov-2025/
LOCATION:Weskus Mall\, 110 Saldanha Road\,\, Vredenburg\, Western Cape\, 7380\, South Africa
CATEGORIES:Competitions
ATTACH;FMTTYPE=image/png:https://weskus-mall.co.za/wp-content/uploads/2025/11/Picture1-scaled.png
ORGANIZER;CN="Weskus Mall":MAILTO:info@weskus-mall.co.za
END:VEVENT
BEGIN:VEVENT
DTSTART;TZID=Africa/Johannesburg:20251130T103000
DTEND;TZID=Africa/Johannesburg:20251130T170000
DTSTAMP:20260420T014653
CREATED:20250909T210811Z
LAST-MODIFIED:20250909T211249Z
UID:16588-1764498600-1764522000@weskus-mall.co.za
SUMMARY:The Annual Toyrun is almost here!
DESCRIPTION:Weskus Mall is proud to once again be the starting point for the Mass Ride taking place on Sunday\, 30 November 2025. \nJoin in the fun and help make a difference in the lives of children in need. \nFor more information\, please contact Corna at 081 270 7657.
URL:https://weskus-mall.co.za/event/the-annual-toyrun-is-almost-here/
LOCATION:Weskus Mall\, 110 Saldanha Road\,\, Vredenburg\, Western Cape\, 7380\, South Africa
CATEGORIES:Weskus Mall Events
ATTACH;FMTTYPE=image/jpeg:https://weskus-mall.co.za/wp-content/uploads/2025/09/Toyrun.jpg
ORGANIZER;CN="Weskus Mall":MAILTO:info@weskus-mall.co.za
END:VEVENT
END:VCALENDAR